BEGIN:VCALENDAR
VERSION:2.0
PRODID:-//Corner 25 - ECPv6.0.11//NONSGML v1.0//EN
CALSCALE:GREGORIAN
METHOD:PUBLISH
X-WR-CALNAME:Corner 25
X-ORIGINAL-URL:https://corner25.ch
X-WR-CALDESC:évènements pour Corner 25
REFRESH-INTERVAL;VALUE=DURATION:PT1H
X-Robots-Tag:noindex
X-PUBLISHED-TTL:PT1H
BEGIN:VTIMEZONE
TZID:Europe/Zurich
BEGIN:DAYLIGHT
TZOFFSETFROM:+0100
TZOFFSETTO:+0200
TZNAME:CEST
DTSTART:20250330T010000
END:DAYLIGHT
BEGIN:STANDARD
TZOFFSETFROM:+0200
TZOFFSETTO:+0100
TZNAME:CET
DTSTART:20251026T010000
END:STANDARD
END:VTIMEZONE
BEGIN:VEVENT
DTSTART;TZID=Europe/Zurich:20250503T230000
DTEND;TZID=Europe/Zurich:20250504T050000
DTSTAMP:20260421T110635
CREATED:20250423T183346Z
LAST-MODIFIED:20250423T183346Z
UID:31306-1746313200-1746334800@corner25.ch
SUMMARY:REGGAE DANCEHALL COMMUNITY #3
DESCRIPTION:REGGAE DANCEHALL COMMUNITY #3 \nGC sound\nDerrick sound\nUnity sound system \n23h>05h   15\,-
URL:https://corner25.ch/event/reggae-dancehall-community-3/
LOCATION:Le Groove\, 9 rue des Gazomètres\, Genève\, 1205\, Suisse
ATTACH;FMTTYPE=image/jpeg:https://corner25.ch/wp-content/uploads/2025/03/91.jpg
END:VEVENT
BEGIN:VEVENT
DTSTART;TZID=Europe/Zurich:20250509T230000
DTEND;TZID=Europe/Zurich:20250510T050000
DTSTAMP:20260421T110635
CREATED:20250423T183704Z
LAST-MODIFIED:20250423T183704Z
UID:31308-1746831600-1746853200@corner25.ch
SUMMARY:State of Emergency #15
DESCRIPTION:State of Emergency n°15 \nRadikal Vibration\nHigh Rockers\nHigh Frequency sound system \n23h>05h  |  12\,- avant minuit. 15\,- après
URL:https://corner25.ch/event/state-of-emergency-15/
ATTACH;FMTTYPE=image/jpeg:https://corner25.ch/wp-content/uploads/2025/04/92.jpg
END:VEVENT
END:VCALENDAR