BEGIN:VCALENDAR
VERSION:2.0
PRODID:-//Corner 25 - ECPv6.0.11//NONSGML v1.0//EN
CALSCALE:GREGORIAN
METHOD:PUBLISH
X-WR-CALNAME:Corner 25
X-ORIGINAL-URL:https://corner25.ch
X-WR-CALDESC:évènements pour Corner 25
REFRESH-INTERVAL;VALUE=DURATION:PT1H
X-Robots-Tag:noindex
X-PUBLISHED-TTL:PT1H
BEGIN:VTIMEZONE
TZID:Europe/Zurich
BEGIN:DAYLIGHT
TZOFFSETFROM:+0100
TZOFFSETTO:+0200
TZNAME:CEST
DTSTART:20250330T010000
END:DAYLIGHT
BEGIN:STANDARD
TZOFFSETFROM:+0200
TZOFFSETTO:+0100
TZNAME:CET
DTSTART:20251026T010000
END:STANDARD
END:VTIMEZONE
BEGIN:VEVENT
DTSTART;TZID=Europe/Zurich:20250104T230000
DTEND;TZID=Europe/Zurich:20250105T050000
DTSTAMP:20260422T121337
CREATED:20241227T174628Z
LAST-MODIFIED:20241227T174628Z
UID:31251-1736031600-1736053200@corner25.ch
SUMMARY:Reggae Knights #2
DESCRIPTION:Pour bien commencer l’année et faire le plein de soundsystem après les fetes\, UpFull Vibes Soundsystem & le Corner25 organisent un Soundmeeting local 3x 2bass le Samedi 4 Janvier 2025 :\nSHAKING LIGHT SOUNDSYSTEM (74/FR)XMASENKO SOUNDSYSTEM (74/FR)XUPFULL VIBES SOUNDSYSTEM (GE/CH)\n\n 23h – 05h 15.- CHF
URL:https://corner25.ch/event/reggae-knights-2/
LOCATION:Le Groove\, 9 rue des Gazomètres\, Genève\, 1205\, Suisse
ATTACH;FMTTYPE=image/jpeg:https://corner25.ch/wp-content/uploads/2024/12/84.jpg
END:VEVENT
BEGIN:VEVENT
DTSTART;TZID=Europe/Zurich:20250111T230000
DTEND;TZID=Europe/Zurich:20250112T050000
DTSTAMP:20260422T121337
CREATED:20250110T161231Z
LAST-MODIFIED:20250110T161231Z
UID:31259-1736636400-1736658000@corner25.ch
SUMMARY:Soundman Shelter
DESCRIPTION:sound meeting 3×6 bass \n Tiki Sound System\n Skankin’ Society Sound System\n bassment! sound system\n\n23h>05h | 12chf
URL:https://corner25.ch/event/soundman-shelter/
LOCATION:Le Groove\, 9 rue des Gazomètres\, Genève\, 1205\, Suisse
ATTACH;FMTTYPE=image/jpeg:https://corner25.ch/wp-content/uploads/2025/01/85.jpg
END:VEVENT
END:VCALENDAR