BEGIN:VCALENDAR
VERSION:2.0
PRODID:-//Corner 25 - ECPv6.0.11//NONSGML v1.0//EN
CALSCALE:GREGORIAN
METHOD:PUBLISH
X-WR-CALNAME:Corner 25
X-ORIGINAL-URL:https://corner25.ch
X-WR-CALDESC:évènements pour Corner 25
REFRESH-INTERVAL;VALUE=DURATION:PT1H
X-Robots-Tag:noindex
X-PUBLISHED-TTL:PT1H
BEGIN:VTIMEZONE
TZID:Europe/Zurich
BEGIN:DAYLIGHT
TZOFFSETFROM:+0100
TZOFFSETTO:+0200
TZNAME:CEST
DTSTART:20240331T010000
END:DAYLIGHT
BEGIN:STANDARD
TZOFFSETFROM:+0200
TZOFFSETTO:+0100
TZNAME:CET
DTSTART:20241027T010000
END:STANDARD
END:VTIMEZONE
BEGIN:VEVENT
DTSTART;TZID=Europe/Zurich:20241130T230000
DTEND;TZID=Europe/Zurich:20241201T050000
DTSTAMP:20260422T183820
CREATED:20241029T171740Z
LAST-MODIFIED:20241029T171740Z
UID:31226-1733007600-1733029200@corner25.ch
SUMMARY:Groove Dub Club
DESCRIPTION:Pour cette édition un spécial guest d’Espagne COOL UP RECORDS!Le crew vient avec sa section horn!\nPour les accompagner\, RUTSU YAMA HI-FI et HUMANITY SOUND SYSTEM (full sound)\n\n23h – 5h15.- / 17.-  avant 00h / après 00h
URL:https://corner25.ch/event/groove-dub-club/
LOCATION:Le Groove\, 9 rue des Gazomètres\, Genève\, 1205\, Suisse
ATTACH;FMTTYPE=image/jpeg:https://corner25.ch/wp-content/uploads/2024/10/80.jpg
END:VEVENT
BEGIN:VEVENT
DTSTART;TZID=Europe/Zurich:20241207T230000
DTEND;TZID=Europe/Zurich:20241208T060000
DTSTAMP:20260422T183820
CREATED:20241119T192200Z
LAST-MODIFIED:20241119T192200Z
UID:31246-1733612400-1733637600@corner25.ch
SUMMARY:Sound System Celebration #19
DESCRIPTION:Sound Meeting 3×4 scoops pour célébrer les 10 ans de King’s Tone sound ! \n High Frequency Tiki Sound System King’s Tone Sound System \n 23H – 06H 12 avant minuit // 15 après (Pas de prélocation)
URL:https://corner25.ch/event/sound-system-celebration-19/
LOCATION:Le Groove\, 9 rue des Gazomètres\, Genève\, 1205\, Suisse
ATTACH;FMTTYPE=image/jpeg:https://corner25.ch/wp-content/uploads/2024/11/88.jpg
END:VEVENT
BEGIN:VEVENT
DTSTART;TZID=Europe/Zurich:20241214T230000
DTEND;TZID=Europe/Zurich:20241215T050000
DTSTAMP:20260422T183820
CREATED:20241107T205753Z
LAST-MODIFIED:20241107T205753Z
UID:31233-1734217200-1734238800@corner25.ch
SUMMARY:REGGAE DANCEHALL COMMUNITY
DESCRIPTION:SOUND SYSTEM SESSION Featuring long time finest:ASHER SELECTORDJ POSTMANLOCAL INTERNATIONALUNITY SOUNDPowered by UNITY SOUND SYSTEM
URL:https://corner25.ch/event/reggae-dancehall-community-2/
LOCATION:Le Groove\, 9 rue des Gazomètres\, Genève\, 1205\, Suisse
ATTACH;FMTTYPE=image/jpeg:https://corner25.ch/wp-content/uploads/2024/11/81.jpg
END:VEVENT
BEGIN:VEVENT
DTSTART;TZID=Europe/Zurich:20241221T230000
DTEND;TZID=Europe/Zurich:20241222T060000
DTSTAMP:20260422T183820
CREATED:20241119T192459Z
LAST-MODIFIED:20241119T192459Z
UID:31248-1734822000-1734847200@corner25.ch
SUMMARY:Outernational Dub Meeting
DESCRIPTION:Bush Doctors vous convie à un gros sound meeting 3×4 bass ! \n Sanga Mama Africa Soundsystem ft. Black Omolo Echotronix Soundsystem Bush Doctors Soundsystem \n 23H00 – 06H00 18.- avant minuit 20.- à partir de minuitPas de prélocation
URL:https://corner25.ch/event/outernational-dub-meeting-2/
LOCATION:Le Groove\, 9 rue des Gazomètres\, Genève\, 1205\, Suisse
ATTACH;FMTTYPE=image/jpeg:https://corner25.ch/wp-content/uploads/2024/11/82-insta.jpg
END:VEVENT
END:VCALENDAR