BEGIN:VCALENDAR
VERSION:2.0
PRODID:-//Corner 25 - ECPv6.0.11//NONSGML v1.0//EN
CALSCALE:GREGORIAN
METHOD:PUBLISH
X-ORIGINAL-URL:https://corner25.ch
X-WR-CALDESC:évènements pour Corner 25
REFRESH-INTERVAL;VALUE=DURATION:PT1H
X-Robots-Tag:noindex
X-PUBLISHED-TTL:PT1H
BEGIN:VTIMEZONE
TZID:Europe/Zurich
BEGIN:DAYLIGHT
TZOFFSETFROM:+0100
TZOFFSETTO:+0200
TZNAME:CEST
DTSTART:20240331T010000
END:DAYLIGHT
BEGIN:STANDARD
TZOFFSETFROM:+0200
TZOFFSETTO:+0100
TZNAME:CET
DTSTART:20241027T010000
END:STANDARD
END:VTIMEZONE
BEGIN:VEVENT
DTSTART;TZID=Europe/Zurich:20240831T230000
DTEND;TZID=Europe/Zurich:20240901T050000
DTSTAMP:20260425T002347
CREATED:20240806T132333Z
LAST-MODIFIED:20240806T132411Z
UID:31186-1725145200-1725166800@corner25.ch
SUMMARY:REGGAE DANCEHALL COMMUNITY
DESCRIPTION:Big session a come\, featuring Geneva’s finest:\n MA GASH INTL. STRAIGHT SOUND ZION GATE SOUND UNITY SOUND SYSTEM\n\n 23:00 – 05:00 Tarif normal : 15.-
URL:https://corner25.ch/event/reggae-dancehall-community/
LOCATION:Le Groove\, 9 rue des Gazomètres\, Genève\, 1205\, Suisse
END:VEVENT
BEGIN:VEVENT
DTSTART;TZID=Europe/Zurich:20240907T230000
DTEND;TZID=Europe/Zurich:20240908T050000
DTSTAMP:20260425T002347
CREATED:20240806T132605Z
LAST-MODIFIED:20240806T132640Z
UID:31190-1725750000-1725771600@corner25.ch
SUMMARY:Youths pon di Corner
DESCRIPTION:Le Corner 25 est très fier de vous présenter l’affiche de la prochaine YOUTHS PON DI CORNER\, avec au line up trois sound system issu de la région de Haute-Savoie.\n ACREWBATE SOUND SYSTEM SKUNK’HIT SOUND SYSTEM RUTSU YAMA HI FI\n\n23H00 – 05h00Entrée 12.- (avant minuit)15.-chf (après minuit)
URL:https://corner25.ch/event/youths-pon-du-corner/
LOCATION:Le Groove\, 9 rue des Gazomètres\, Genève\, 1205\, Suisse
ATTACH;FMTTYPE=image/jpeg:https://corner25.ch/wp-content/uploads/2024/07/73.jpg
END:VEVENT
BEGIN:VEVENT
DTSTART;TZID=Europe/Zurich:20240921T230000
DTEND;TZID=Europe/Zurich:20240922T060000
DTSTAMP:20260425T002347
CREATED:20240829T174325Z
LAST-MODIFIED:20240829T174325Z
UID:31194-1726959600-1726984800@corner25.ch
SUMMARY:Sun to Zion
DESCRIPTION:BABABOOM HIFI (IT)KING’S TONE SOUND SYSTEM (CH)ALPHA PUP (PT)DIMAS (ESP)GALAS (IT)LION WARRIAH (IT) \n 23:00 – 06:00 18 CHF
URL:https://corner25.ch/event/sun-to-zion/
LOCATION:Le Groove\, 9 rue des Gazomètres\, Genève\, 1205\, Suisse
ATTACH;FMTTYPE=image/jpeg:https://corner25.ch/wp-content/uploads/2024/08/74.jpg
END:VEVENT
BEGIN:VEVENT
DTSTART;TZID=Europe/Zurich:20240928T230000
DTEND;TZID=Europe/Zurich:20240929T060000
DTSTAMP:20260425T002347
CREATED:20240829T174554Z
LAST-MODIFIED:20240829T174554Z
UID:31198-1727564400-1727589600@corner25.ch
SUMMARY:State of Emergency #14
DESCRIPTION:sound meeting style \n  High Salute Sound System  High Frequency Sound System  Black Hole Sound System feat Bonzhigh-MC & GuilorSax \n 23H00 – 06H0012.- avant minuit15.- après minuit
URL:https://corner25.ch/event/state-of-emergency-14/
LOCATION:Le Groove\, 9 rue des Gazomètres\, Genève\, 1205\, Suisse
ATTACH;FMTTYPE=image/jpeg:https://corner25.ch/wp-content/uploads/2024/08/75-scaled.jpg
END:VEVENT
END:VCALENDAR