BEGIN:VCALENDAR
VERSION:2.0
PRODID:-//Corner 25 - ECPv6.0.11//NONSGML v1.0//EN
CALSCALE:GREGORIAN
METHOD:PUBLISH
X-ORIGINAL-URL:https://corner25.ch
X-WR-CALDESC:évènements pour Corner 25
REFRESH-INTERVAL;VALUE=DURATION:PT1H
X-Robots-Tag:noindex
X-PUBLISHED-TTL:PT1H
BEGIN:VTIMEZONE
TZID:Europe/Zurich
BEGIN:DAYLIGHT
TZOFFSETFROM:+0100
TZOFFSETTO:+0200
TZNAME:CEST
DTSTART:20250330T010000
END:DAYLIGHT
BEGIN:STANDARD
TZOFFSETFROM:+0200
TZOFFSETTO:+0100
TZNAME:CET
DTSTART:20251026T010000
END:STANDARD
END:VTIMEZONE
BEGIN:VEVENT
DTSTART;TZID=Europe/Zurich:20251213T230000
DTEND;TZID=Europe/Zurich:20251214T050000
DTSTAMP:20260420T045443
CREATED:20251205T161207Z
LAST-MODIFIED:20251205T161207Z
UID:31374-1765666800-1765688400@corner25.ch
SUMMARY:United for Jamaica
DESCRIPTION:Suite aux énormes dégâts causés par l’ouragan Melissa en Jamaïque\, Corner 25 et Addis Records s’associent pour une soirée 100 % caritative\, afin de récolter des fonds pour soutenir les communautés touchées L’intégralité des bénéfices sera reversée à une association active sur le terrain (en cours de confirmation).
URL:https://corner25.ch/event/united-for-jamaica/
LOCATION:Le Groove\, 9 rue des Gazomètres\, Genève\, 1205\, Suisse
ATTACH;FMTTYPE=image/jpeg:https://corner25.ch/wp-content/uploads/2025/12/587297229_858878709996563_380617270284525044_n.jpg
END:VEVENT
END:VCALENDAR