BEGIN:VCALENDAR
VERSION:2.0
PRODID:-//Corner 25 - ECPv6.0.11//NONSGML v1.0//EN
CALSCALE:GREGORIAN
METHOD:PUBLISH
X-ORIGINAL-URL:https://corner25.ch
X-WR-CALDESC:évènements pour Corner 25
REFRESH-INTERVAL;VALUE=DURATION:PT1H
X-Robots-Tag:noindex
X-PUBLISHED-TTL:PT1H
BEGIN:VTIMEZONE
TZID:Europe/Zurich
BEGIN:DAYLIGHT
TZOFFSETFROM:+0100
TZOFFSETTO:+0200
TZNAME:CEST
DTSTART:20250330T010000
END:DAYLIGHT
BEGIN:STANDARD
TZOFFSETFROM:+0200
TZOFFSETTO:+0100
TZNAME:CET
DTSTART:20251026T010000
END:STANDARD
END:VTIMEZONE
BEGIN:VEVENT
DTSTART;TZID=Europe/Zurich:20250412T230000
DTEND;TZID=Europe/Zurich:20250413T060000
DTSTAMP:20260421T200121
CREATED:20250325T185823Z
LAST-MODIFIED:20250325T190454Z
UID:31294-1744498800-1744524000@corner25.ch
SUMMARY:SUB A DUB #7
DESCRIPTION:SUB A DUB #7 \nJah Massive \nLion Youth \nBush Doctors sound system \n23h>06h  |   15\,- avant minuit. 20\,- après
URL:https://corner25.ch/event/sab-a-dub-7/
LOCATION:Le Groove\, 9 rue des Gazomètres\, Genève\, 1205\, Suisse
ATTACH;FMTTYPE=image/jpeg:https://corner25.ch/wp-content/uploads/2025/03/90.jpg
END:VEVENT
END:VCALENDAR