BEGIN:VCALENDAR
VERSION:2.0
PRODID:-//Corner 25 - ECPv6.0.11//NONSGML v1.0//EN
CALSCALE:GREGORIAN
METHOD:PUBLISH
X-WR-CALNAME:Corner 25
X-ORIGINAL-URL:https://corner25.ch
X-WR-CALDESC:évènements pour Corner 25
REFRESH-INTERVAL;VALUE=DURATION:PT1H
X-Robots-Tag:noindex
X-PUBLISHED-TTL:PT1H
BEGIN:VTIMEZONE
TZID:Europe/Zurich
BEGIN:DAYLIGHT
TZOFFSETFROM:+0100
TZOFFSETTO:+0200
TZNAME:CEST
DTSTART:20240331T010000
END:DAYLIGHT
BEGIN:STANDARD
TZOFFSETFROM:+0200
TZOFFSETTO:+0100
TZNAME:CET
DTSTART:20241027T010000
END:STANDARD
END:VTIMEZONE
BEGIN:VEVENT
DTSTART;TZID=Europe/Zurich:20241019T080000
DTEND;TZID=Europe/Zurich:20241020T060000
DTSTAMP:20260424T160820
CREATED:20241010T170236Z
LAST-MODIFIED:20241010T170808Z
UID:31212-1729324800-1729404000@corner25.ch
SUMMARY:GLOBALE LOCALE | African Reggae
DESCRIPTION:soirée spécial reggae Africain\, Live & sound system ! \n𝗞𝗼𝘂𝗺𝗯𝗮 𝗧𝗼𝘀𝗵 & 𝗙𝗶𝗳𝗮𝘄𝗮 band (live) \n𝗡𝗮𝘁𝘁𝘆 𝗖𝗼𝗰𝗼 s𝗼𝘂𝗻𝗱 𝘀𝘆𝘀𝘁𝗲𝗺 \n𝗥𝗮𝘀 𝗠𝗮𝗹𝗶 \n𝗖𝗼𝗿𝗻𝗲𝗿 𝟮𝟱 𝗰𝗿𝗲𝘄 \nGlobale Locale festival  //  23h>06h
URL:https://corner25.ch/event/global-locale-african-reggae/
LOCATION:Le Groove\, 9 rue des Gazomètres\, Genève\, 1205\, Suisse
ATTACH;FMTTYPE=image/png:https://corner25.ch/wp-content/uploads/2024/09/80.png
END:VEVENT
END:VCALENDAR