BEGIN:VCALENDAR
VERSION:2.0
PRODID:-//Corner 25 - ECPv6.0.11//NONSGML v1.0//EN
CALSCALE:GREGORIAN
METHOD:PUBLISH
X-WR-CALNAME:Corner 25
X-ORIGINAL-URL:https://corner25.ch
X-WR-CALDESC:évènements pour Corner 25
REFRESH-INTERVAL;VALUE=DURATION:PT1H
X-Robots-Tag:noindex
X-PUBLISHED-TTL:PT1H
BEGIN:VTIMEZONE
TZID:Europe/Zurich
BEGIN:DAYLIGHT
TZOFFSETFROM:+0100
TZOFFSETTO:+0200
TZNAME:CEST
DTSTART:20240331T010000
END:DAYLIGHT
BEGIN:STANDARD
TZOFFSETFROM:+0200
TZOFFSETTO:+0100
TZNAME:CET
DTSTART:20241027T010000
END:STANDARD
END:VTIMEZONE
BEGIN:VEVENT
DTSTART;TZID=Europe/Zurich:20240106T233000
DTEND;TZID=Europe/Zurich:20240107T060000
DTSTAMP:20260423T094130
CREATED:20231207T190519Z
LAST-MODIFIED:20231207T190519Z
UID:31085-1704583800-1704607200@corner25.ch
SUMMARY:WICKED VIBES #3
DESCRIPTION: INDICA DUBS SOUND SYSTEM (UK / 8 BASS) \n DANMAN (JAM / UK) \n💿 ROOTS GLIDER au warm up \n 23H30 – 06H00 \n Prélocations limitées: 20\,-/22\,-  https://www.petzi.ch/events/54483/
URL:https://corner25.ch/event/wicked-vibes-3/
LOCATION:Le Groove\, 9 rue des Gazomètres\, Genève\, 1205\, Suisse
ATTACH;FMTTYPE=image/jpeg:https://corner25.ch/wp-content/uploads/2023/11/wicked-vibes-3-A4.jpg
END:VEVENT
END:VCALENDAR