BEGIN:VCALENDAR
VERSION:2.0
PRODID:-//Corner 25 - ECPv6.0.11//NONSGML v1.0//EN
CALSCALE:GREGORIAN
METHOD:PUBLISH
X-WR-CALNAME:Corner 25
X-ORIGINAL-URL:https://corner25.ch
X-WR-CALDESC:évènements pour Corner 25
REFRESH-INTERVAL;VALUE=DURATION:PT1H
X-Robots-Tag:noindex
X-PUBLISHED-TTL:PT1H
BEGIN:VTIMEZONE
TZID:Europe/Zurich
BEGIN:DAYLIGHT
TZOFFSETFROM:+0100
TZOFFSETTO:+0200
TZNAME:CEST
DTSTART:20240331T010000
END:DAYLIGHT
BEGIN:STANDARD
TZOFFSETFROM:+0200
TZOFFSETTO:+0100
TZNAME:CET
DTSTART:20241027T010000
END:STANDARD
END:VTIMEZONE
BEGIN:VEVENT
DTSTART;TZID=Europe/Zurich:20240921T230000
DTEND;TZID=Europe/Zurich:20240922T060000
DTSTAMP:20260421T070010
CREATED:20240829T174325Z
LAST-MODIFIED:20240829T174325Z
UID:31194-1726959600-1726984800@corner25.ch
SUMMARY:Sun to Zion
DESCRIPTION:BABABOOM HIFI (IT)KING’S TONE SOUND SYSTEM (CH)ALPHA PUP (PT)DIMAS (ESP)GALAS (IT)LION WARRIAH (IT) \n 23:00 – 06:00 18 CHF
URL:https://corner25.ch/event/sun-to-zion/
LOCATION:Le Groove\, 9 rue des Gazomètres\, Genève\, 1205\, Suisse
ATTACH;FMTTYPE=image/jpeg:https://corner25.ch/wp-content/uploads/2024/08/74.jpg
END:VEVENT
END:VCALENDAR