BEGIN:VCALENDAR
VERSION:2.0
PRODID:-//Corner 25 - ECPv6.0.11//NONSGML v1.0//EN
CALSCALE:GREGORIAN
METHOD:PUBLISH
X-WR-CALNAME:Corner 25
X-ORIGINAL-URL:https://corner25.ch
X-WR-CALDESC:évènements pour Corner 25
REFRESH-INTERVAL;VALUE=DURATION:PT1H
X-Robots-Tag:noindex
X-PUBLISHED-TTL:PT1H
BEGIN:VTIMEZONE
TZID:Europe/Zurich
BEGIN:DAYLIGHT
TZOFFSETFROM:+0100
TZOFFSETTO:+0200
TZNAME:CEST
DTSTART:20240331T010000
END:DAYLIGHT
BEGIN:STANDARD
TZOFFSETFROM:+0200
TZOFFSETTO:+0100
TZNAME:CET
DTSTART:20241027T010000
END:STANDARD
END:VTIMEZONE
BEGIN:VEVENT
DTSTART;TZID=Europe/Zurich:20240223T230000
DTEND;TZID=Europe/Zurich:20240224T060000
DTSTAMP:20260422T185446
CREATED:20240201T192623Z
LAST-MODIFIED:20240201T192623Z
UID:31123-1708729200-1708754400@corner25.ch
SUMMARY:Soundman Shelter #6
DESCRIPTION:big sound meeting a come \n 𝗥𝗨𝗙𝗙 𝗦𝗧𝗘́𝗥𝗘́𝗢 𝗦𝗢𝗨𝗡𝗗 𝗦𝗬𝗦𝗧𝗘𝗠\n 𝙛𝙚𝙖𝙩.𝗬𝗢𝗨𝗡𝗚 𝗞𝗨𝗟𝗖𝗛𝗔\n 𝗧𝗜𝗞𝗜 𝗦𝗢𝗨𝗡𝗗 𝗦𝗬𝗦𝗧𝗘𝗠\n 𝙛𝙚𝙖𝙩. 𝗔𝗕𝗦𝗢\n𝙒𝙖𝙧𝙢 𝙪𝙥 𝙗𝙮 𝙆𝙞𝙣𝙜𝙨’𝙏𝙤𝙣𝙚\n\n\n𝓘𝗻𝗳𝗼𝗿𝗺𝗮𝘁𝗶𝗼𝗻𝘀 𝓟𝗿𝗮𝘁𝗶𝗾𝘂𝗲𝘀\n Vendredi 23 février 2024\n 23h – 06h\n Tarif normal : 15 CHF\n Tarif -18 ans : 10 CHF
URL:https://corner25.ch/event/soundman-shelter-6/
LOCATION:Le Groove\, 9 rue des Gazomètres\, Genève\, 1205\, Suisse
ATTACH;FMTTYPE=image/jpeg:https://corner25.ch/wp-content/uploads/2024/01/64-2.jpg
END:VEVENT
END:VCALENDAR