BEGIN:VCALENDAR
VERSION:2.0
PRODID:-//Corner 25 - ECPv6.0.11//NONSGML v1.0//EN
CALSCALE:GREGORIAN
METHOD:PUBLISH
X-WR-CALNAME:Corner 25
X-ORIGINAL-URL:https://corner25.ch
X-WR-CALDESC:évènements pour Corner 25
REFRESH-INTERVAL;VALUE=DURATION:PT1H
X-Robots-Tag:noindex
X-PUBLISHED-TTL:PT1H
BEGIN:VTIMEZONE
TZID:Europe/Zurich
BEGIN:DAYLIGHT
TZOFFSETFROM:+0100
TZOFFSETTO:+0200
TZNAME:CEST
DTSTART:20240331T010000
END:DAYLIGHT
BEGIN:STANDARD
TZOFFSETFROM:+0200
TZOFFSETTO:+0100
TZNAME:CET
DTSTART:20241027T010000
END:STANDARD
END:VTIMEZONE
BEGIN:VEVENT
DTSTART;TZID=Europe/Zurich:20240601T230000
DTEND;TZID=Europe/Zurich:20240602T050000
DTSTAMP:20260422T041008
CREATED:20240515T104200Z
LAST-MODIFIED:20240515T104200Z
UID:31156-1717282800-1717304400@corner25.ch
SUMMARY:Reggae Knights
DESCRIPTION:le Corner 25 et Upfull Vibes présentent  Reggae Knights #1 \nAGOBUN SOUND SYSTEM  6 bass  (Lille/FR)XRIDDIM ACTIVIST (Toulouse/FR)  feat.  YOUNG KULCHAXUPFULL VIBES SOUND (Genève/CH) \n 23h – 05h 16.- avant minuit 18.- après \nprélocs Petzi : https://www.petzi.ch/fr/events/55935-corner-25-reggae-knights-1-agobun-soundsystem/
URL:https://corner25.ch/event/reggae-knights/
LOCATION:Le Groove\, 9 rue des Gazomètres\, Genève\, 1205\, Suisse
ATTACH;FMTTYPE=image/jpeg:https://corner25.ch/wp-content/uploads/2024/05/70.jpg
END:VEVENT
END:VCALENDAR