BEGIN:VCALENDAR
VERSION:2.0
PRODID:-//Corner 25 - ECPv6.0.11//NONSGML v1.0//EN
CALSCALE:GREGORIAN
METHOD:PUBLISH
X-WR-CALNAME:Corner 25
X-ORIGINAL-URL:https://corner25.ch
X-WR-CALDESC:évènements pour Corner 25
REFRESH-INTERVAL;VALUE=DURATION:PT1H
X-Robots-Tag:noindex
X-PUBLISHED-TTL:PT1H
BEGIN:VTIMEZONE
TZID:Europe/Zurich
BEGIN:DAYLIGHT
TZOFFSETFROM:+0100
TZOFFSETTO:+0200
TZNAME:CEST
DTSTART:20240331T010000
END:DAYLIGHT
BEGIN:STANDARD
TZOFFSETFROM:+0200
TZOFFSETTO:+0100
TZNAME:CET
DTSTART:20241027T010000
END:STANDARD
END:VTIMEZONE
BEGIN:VEVENT
DTSTART;TZID=Europe/Zurich:20241026T230000
DTEND;TZID=Europe/Zurich:20241027T060000
DTSTAMP:20260421T070537
CREATED:20241014T122325Z
LAST-MODIFIED:20241014T122325Z
UID:31223-1729983600-1730008800@corner25.ch
SUMMARY:Rebels in Town
DESCRIPTION:soirée 𝗥𝗲𝗴𝗴𝗮𝗲 / 𝗗𝗮𝗻𝗰𝗲𝗵𝗮𝗹𝗹 \nSingers Rebellion the Recaller Redemption Soul Charly B\nMusic play by Redemption Sound Unity Sound Local International\n 23H – 06H
URL:https://corner25.ch/event/rebels-in-town/
LOCATION:Le Groove\, 9 rue des Gazomètres\, Genève\, 1205\, Suisse
ATTACH;FMTTYPE=image/jpeg:https://corner25.ch/wp-content/uploads/2024/10/78.jpg
END:VEVENT
END:VCALENDAR