BEGIN:VCALENDAR
VERSION:2.0
PRODID:-//Corner 25 - ECPv6.0.11//NONSGML v1.0//EN
CALSCALE:GREGORIAN
METHOD:PUBLISH
X-WR-CALNAME:Corner 25
X-ORIGINAL-URL:https://corner25.ch
X-WR-CALDESC:évènements pour Corner 25
REFRESH-INTERVAL;VALUE=DURATION:PT1H
X-Robots-Tag:noindex
X-PUBLISHED-TTL:PT1H
BEGIN:VTIMEZONE
TZID:Europe/Zurich
BEGIN:DAYLIGHT
TZOFFSETFROM:+0100
TZOFFSETTO:+0200
TZNAME:CEST
DTSTART:20250330T010000
END:DAYLIGHT
BEGIN:STANDARD
TZOFFSETFROM:+0200
TZOFFSETTO:+0100
TZNAME:CET
DTSTART:20251026T010000
END:STANDARD
END:VTIMEZONE
BEGIN:VEVENT
DTSTART;TZID=Europe/Zurich:20250627T220000
DTEND;TZID=Europe/Zurich:20250628T030000
DTSTAMP:20260421T064000
CREATED:20250625T200444Z
LAST-MODIFIED:20250625T200444Z
UID:31333-1751061600-1751079600@corner25.ch
SUMMARY:Queen Ifrica & Winston McAnuff
DESCRIPTION:Queen Ifrica  🇯🇲 \nWinston Mc Anuff  🇯🇲 \nmusic by : Selekta G\, Unity sound\, & Boomsound \n22h>03h  | 25\,-  |  prélocs ici  : \nhttps://www.tickettailor.com/events/reggaeineurope/1724809?fbclid=IwY2xjawLHfqFleHRuA2FlbQIxMQABHldOckf2nduvxlb0R6b-rGrsbvy2cxsDr4VUwY_59obozodnq0Ds6cHVhmpk_aem_TmI7HreEhUCC6-XdFSUrOQ
URL:https://corner25.ch/event/queen-ifrica-winston-mcanuff/
LOCATION:Le Groove\, 9 rue des Gazomètres\, Genève\, 1205\, Suisse
ATTACH;FMTTYPE=image/jpeg:https://corner25.ch/wp-content/uploads/2025/06/96.jpg
END:VEVENT
END:VCALENDAR