BEGIN:VCALENDAR
VERSION:2.0
PRODID:-//Corner 25 - ECPv6.0.11//NONSGML v1.0//EN
CALSCALE:GREGORIAN
METHOD:PUBLISH
X-WR-CALNAME:Corner 25
X-ORIGINAL-URL:https://corner25.ch
X-WR-CALDESC:évènements pour Corner 25
REFRESH-INTERVAL;VALUE=DURATION:PT1H
X-Robots-Tag:noindex
X-PUBLISHED-TTL:PT1H
BEGIN:VTIMEZONE
TZID:Europe/Zurich
BEGIN:DAYLIGHT
TZOFFSETFROM:+0100
TZOFFSETTO:+0200
TZNAME:CEST
DTSTART:20240331T010000
END:DAYLIGHT
BEGIN:STANDARD
TZOFFSETFROM:+0200
TZOFFSETTO:+0100
TZNAME:CET
DTSTART:20241027T010000
END:STANDARD
END:VTIMEZONE
BEGIN:VEVENT
DTSTART;TZID=Europe/Zurich:20240302T230000
DTEND;TZID=Europe/Zurich:20240303T060000
DTSTAMP:20260422T184402
CREATED:20240209T155919Z
LAST-MODIFIED:20240209T155919Z
UID:31132-1709420400-1709445600@corner25.ch
SUMMARY:Dub School // Sip A Cup
DESCRIPTION:SIP A CUP SHOWCASE (UK) FEATURING\n GUSSIE P. + PRINCE LIVIJAH + EARL SIXTEEN (JA)\n JAH ROOTS HIFI FULL SOUND SYSTEM (9 scoops)\nwarm up  HILLSMAN + LOIC PAULIN (FR) \n23H00 – 06h00\nEntrée sur place 25.-chf\nPre Sale Ticket (quantité limitée): 22.- https://www.petzi.ch/events/54953/
URL:https://corner25.ch/event/dub-school-sip-a-cup/
LOCATION:Le Groove\, 9 rue des Gazomètres\, Genève\, 1205\, Suisse
ATTACH;FMTTYPE=image/jpeg:https://corner25.ch/wp-content/uploads/2024/01/65-2.jpg
END:VEVENT
END:VCALENDAR