BEGIN:VCALENDAR
VERSION:2.0
PRODID:-//Corner 25 - ECPv6.0.11//NONSGML v1.0//EN
CALSCALE:GREGORIAN
METHOD:PUBLISH
X-WR-CALNAME:Corner 25
X-ORIGINAL-URL:https://corner25.ch
X-WR-CALDESC:évènements pour Corner 25
REFRESH-INTERVAL;VALUE=DURATION:PT1H
X-Robots-Tag:noindex
X-PUBLISHED-TTL:PT1H
BEGIN:VTIMEZONE
TZID:Europe/Zurich
BEGIN:DAYLIGHT
TZOFFSETFROM:+0100
TZOFFSETTO:+0200
TZNAME:CEST
DTSTART:20240331T010000
END:DAYLIGHT
BEGIN:STANDARD
TZOFFSETFROM:+0200
TZOFFSETTO:+0100
TZNAME:CET
DTSTART:20241027T010000
END:STANDARD
END:VTIMEZONE
BEGIN:VEVENT
DTSTART;TZID=Europe/Zurich:20241005T230000
DTEND;TZID=Europe/Zurich:20241006T060000
DTSTAMP:20260420T203635
CREATED:20240926T181101Z
LAST-MODIFIED:20240926T181101Z
UID:31204-1728169200-1728194400@corner25.ch
SUMMARY:Dub School | JAH TUBBY'S
DESCRIPTION: JAH TUBBYS WORLD SYSTEM (UK) FEATURING DIXIE PEACH + MACKY BANTON (UK) SELECTRESS JEANY ROOTS + SISTA MARY (UK) DANDELION SOUND FEAT. ISYAYAH (DE) JAH ROOTS HIFI SOUND SYSTEM # (FULL SOUND-3 STACKS) \nPrélocations: https://www.petzi.ch/events/56292/ \n23h > 06h
URL:https://corner25.ch/event/dub-school-jah-tubbys/
LOCATION:Le Groove\, 9 rue des Gazomètres\, Genève\, 1205\, Suisse
ATTACH;FMTTYPE=image/jpeg:https://corner25.ch/wp-content/uploads/2024/09/76.jpg
END:VEVENT
END:VCALENDAR