BEGIN:VCALENDAR
VERSION:2.0
PRODID:-//Corner 25 - ECPv6.0.11//NONSGML v1.0//EN
CALSCALE:GREGORIAN
METHOD:PUBLISH
X-WR-CALNAME:Corner 25
X-ORIGINAL-URL:https://corner25.ch
X-WR-CALDESC:évènements pour Corner 25
REFRESH-INTERVAL;VALUE=DURATION:PT1H
X-Robots-Tag:noindex
X-PUBLISHED-TTL:PT1H
BEGIN:VTIMEZONE
TZID:Europe/Zurich
BEGIN:DAYLIGHT
TZOFFSETFROM:+0100
TZOFFSETTO:+0200
TZNAME:CEST
DTSTART:20230326T010000
END:DAYLIGHT
BEGIN:STANDARD
TZOFFSETFROM:+0200
TZOFFSETTO:+0100
TZNAME:CET
DTSTART:20231029T010000
END:STANDARD
END:VTIMEZONE
BEGIN:VEVENT
DTSTART;TZID=Europe/Zurich:20231028T230000
DTEND;TZID=Europe/Zurich:20231029T060000
DTSTAMP:20260424T043704
CREATED:20230910T111831Z
LAST-MODIFIED:20230910T111831Z
UID:31029-1698534000-1698559200@corner25.ch
SUMMARY:Dub School
DESCRIPTION:C’est le retour des DUB SCHOOL au Groove !!!\nPour cette session de 8h (nuit du changement d’heure + 1h) on voulais faire qqch de spécial.\n\n\n CHANNEL ONE (UK)……………………..# The Roots Entertainer\nMIKEY DREAD & RAMON JUDAH\n KIBIR LA AMLAK (UK)……………………# Live Mix\n CROOTSY (FR)……………………………..# Saxophone\n JAH ROOTS HIFI SOUND SYSTEM….# 9 Scoops\n\n\n\nINFORMATIONS PRATIQUES\n23H00 – 06h00\nEntrée 22.-chf en prélocation (petzi)\nhttps://www.petzi.ch/events/53441/tickets/#ticket-85046\nSur place 25.-chf
URL:https://corner25.ch/event/dub-school-2/
LOCATION:Le Groove\, 9 rue des Gazomètres\, Genève\, 1205\, Suisse
ATTACH;FMTTYPE=image/jpeg:https://corner25.ch/wp-content/uploads/2023/09/55.jpg
END:VEVENT
END:VCALENDAR