BEGIN:VCALENDAR
VERSION:2.0
PRODID:-//Corner 25 - ECPv6.0.11//NONSGML v1.0//EN
CALSCALE:GREGORIAN
METHOD:PUBLISH
X-WR-CALNAME:Corner 25
X-ORIGINAL-URL:https://corner25.ch
X-WR-CALDESC:évènements pour Corner 25
REFRESH-INTERVAL;VALUE=DURATION:PT1H
X-Robots-Tag:noindex
X-PUBLISHED-TTL:PT1H
BEGIN:VTIMEZONE
TZID:Europe/Zurich
BEGIN:DAYLIGHT
TZOFFSETFROM:+0100
TZOFFSETTO:+0200
TZNAME:CEST
DTSTART:20240331T010000
END:DAYLIGHT
BEGIN:STANDARD
TZOFFSETFROM:+0200
TZOFFSETTO:+0100
TZNAME:CET
DTSTART:20241027T010000
END:STANDARD
END:VTIMEZONE
BEGIN:VEVENT
DTSTART;TZID=Europe/Zurich:20240518T220000
DTEND;TZID=Europe/Zurich:20240519T050000
DTSTAMP:20260422T040844
CREATED:20240515T103748Z
LAST-MODIFIED:20240515T103748Z
UID:31151-1716069600-1716094800@corner25.ch
SUMMARY:Dub Experience
DESCRIPTION:DUB EXPERIENCE\, premier évènement proposé et sonorisé par NS Kroo en collaboration avec le Corner 25 dans la salle du Groove.\n\n NS Kroo Sound System Mc Gyver (Stand High Patrol) I-Tist Dser – special set jungle roots\n\n22h>05h   10\,- avant minuit  15.- après
URL:https://corner25.ch/event/dub-experience/
LOCATION:Le Groove\, 9 rue des Gazomètres\, Genève\, 1205\, Suisse
ATTACH;FMTTYPE=image/jpeg:https://corner25.ch/wp-content/uploads/2024/05/69.jpg
END:VEVENT
END:VCALENDAR