BEGIN:VCALENDAR
VERSION:2.0
PRODID:-//Corner 25 - ECPv6.0.11//NONSGML v1.0//EN
CALSCALE:GREGORIAN
METHOD:PUBLISH
X-WR-CALNAME:Corner 25
X-ORIGINAL-URL:https://corner25.ch
X-WR-CALDESC:évènements pour Corner 25
REFRESH-INTERVAL;VALUE=DURATION:PT1H
X-Robots-Tag:noindex
X-PUBLISHED-TTL:PT1H
BEGIN:VTIMEZONE
TZID:Europe/Zurich
BEGIN:DAYLIGHT
TZOFFSETFROM:+0100
TZOFFSETTO:+0200
TZNAME:CEST
DTSTART:20230326T010000
END:DAYLIGHT
BEGIN:STANDARD
TZOFFSETFROM:+0200
TZOFFSETTO:+0100
TZNAME:CET
DTSTART:20231029T010000
END:STANDARD
END:VTIMEZONE
BEGIN:VEVENT
DTSTART;TZID=Europe/Zurich:20231126T110000
DTEND;TZID=Europe/Zurich:20231126T160000
DTSTAMP:20260423T172729
CREATED:20231120T195108Z
LAST-MODIFIED:20231120T195108Z
UID:31071-1700996400-1701014400@corner25.ch
SUMMARY:Bourse aux Disques #4
DESCRIPTION:La 4ème Bourse aux Disques du Corner 25 aura lieu le dimanche 26 Novembre 2023 de 11h à 16h.\nune édition « all styles » pour tout les goûts et tous styles de musique\nbar et petite restauration sur place\nentrée 5.- à partir de 12 ans\nexposants bienvenue\, merci de prendre contact avec le corner 25 par messenger ou instagram
URL:https://corner25.ch/event/bourse-aux-disques-4/
LOCATION:Le Groove\, 9 rue des Gazomètres\, Genève\, 1205\, Suisse
ATTACH;FMTTYPE=image/jpeg:https://corner25.ch/wp-content/uploads/2023/11/402417836_833855415412602_4175328642866348380_n.jpg
END:VEVENT
END:VCALENDAR